BEGIN:VCALENDAR
VERSION:2.0
PRODID:-//Melodrom - ECPv6.15.20//NONSGML v1.0//EN
CALSCALE:GREGORIAN
METHOD:PUBLISH
X-ORIGINAL-URL:https://www.melodrom.de
X-WR-CALDESC:Veranstaltungen für Melodrom
REFRESH-INTERVAL;VALUE=DURATION:PT1H
X-Robots-Tag:noindex
X-PUBLISHED-TTL:PT1H
BEGIN:VTIMEZONE
TZID:Europe/Berlin
BEGIN:DAYLIGHT
TZOFFSETFROM:+0100
TZOFFSETTO:+0200
TZNAME:CEST
DTSTART:20250330T010000
END:DAYLIGHT
BEGIN:STANDARD
TZOFFSETFROM:+0200
TZOFFSETTO:+0100
TZNAME:CET
DTSTART:20251026T010000
END:STANDARD
BEGIN:DAYLIGHT
TZOFFSETFROM:+0100
TZOFFSETTO:+0200
TZNAME:CEST
DTSTART:20260329T010000
END:DAYLIGHT
BEGIN:STANDARD
TZOFFSETFROM:+0200
TZOFFSETTO:+0100
TZNAME:CET
DTSTART:20261025T010000
END:STANDARD
BEGIN:DAYLIGHT
TZOFFSETFROM:+0100
TZOFFSETTO:+0200
TZNAME:CEST
DTSTART:20270328T010000
END:DAYLIGHT
BEGIN:STANDARD
TZOFFSETFROM:+0200
TZOFFSETTO:+0100
TZNAME:CET
DTSTART:20271031T010000
END:STANDARD
END:VTIMEZONE
BEGIN:VEVENT
DTSTART;TZID=Europe/Berlin:20260424T223000
DTEND;TZID=Europe/Berlin:20260425T040000
DTSTAMP:20260419T150939
CREATED:20260317T110101Z
LAST-MODIFIED:20260416T202050Z
UID:10001380-1777069800-1777089600@www.melodrom.de
SUMMARY:FOS BOS Party
DESCRIPTION:FOS BOS Party Party \n24.04.26 \n22:30Uhr \n﻿
URL:https://www.melodrom.de/event/fos-bos-party-2/
LOCATION:Melodrom\, Sudetenstraße 12\, Kaufbeuren\, 87600\, Deutschland
CATEGORIES:Melodrom
ATTACH;FMTTYPE=image/png:https://www.melodrom.de/wp-content/uploads/2026/04/Blau-Gelb-Retro-Illustrativ-Cocktail-Party-Flyer-1080-x-1350-px.png
GEO:47.8999277;10.6427796
X-APPLE-STRUCTURED-LOCATION;VALUE=URI;X-ADDRESS=Melodrom Sudetenstraße 12 Kaufbeuren 87600 Deutschland;X-APPLE-RADIUS=500;X-TITLE=Sudetenstraße 12:geo:10.6427796,47.8999277
END:VEVENT
BEGIN:VEVENT
DTSTART;TZID=Europe/Berlin:20260425T223000
DTEND;TZID=Europe/Berlin:20260426T040000
DTSTAMP:20260419T150939
CREATED:20260317T110229Z
LAST-MODIFIED:20260317T110211Z
UID:10001373-1777156200-1777176000@www.melodrom.de
SUMMARY:Matrjoschka Events Spring на Районе
DESCRIPTION:Matrjoschka Events Spring на Районе \n25.04.26 \n22:30Uhr \n﻿
URL:https://www.melodrom.de/event/matrjoschkaeventsspring/
LOCATION:Melodrom\, Sudetenstraße 12\, Kaufbeuren\, 87600\, Deutschland
CATEGORIES:Melodrom
ATTACH;FMTTYPE=image/jpeg:https://www.melodrom.de/wp-content/uploads/2026/03/ME-Spring-1x1-1.jpg
GEO:47.8999277;10.6427796
X-APPLE-STRUCTURED-LOCATION;VALUE=URI;X-ADDRESS=Melodrom Sudetenstraße 12 Kaufbeuren 87600 Deutschland;X-APPLE-RADIUS=500;X-TITLE=Sudetenstraße 12:geo:10.6427796,47.8999277
END:VEVENT
BEGIN:VEVENT
DTSTART;TZID=Europe/Berlin:20260501T223000
DTEND;TZID=Europe/Berlin:20260502T050000
DTSTAMP:20260419T150939
CREATED:20260327T121933Z
LAST-MODIFIED:20260327T121933Z
UID:10001379-1777674600-1777698000@www.melodrom.de
SUMMARY:Chrissyjeey
DESCRIPTION:Chrissyjeey \n01.05.26 \n22:30Uhr \n﻿
URL:https://www.melodrom.de/event/chrissyjeey/
LOCATION:Melodrom\, Sudetenstraße 12\, Kaufbeuren\, 87600\, Deutschland
CATEGORIES:Techno
ATTACH;FMTTYPE=image/jpeg:https://www.melodrom.de/wp-content/uploads/2026/03/Chrissy-1x1-1.jpg
GEO:47.8999277;10.6427796
X-APPLE-STRUCTURED-LOCATION;VALUE=URI;X-ADDRESS=Melodrom Sudetenstraße 12 Kaufbeuren 87600 Deutschland;X-APPLE-RADIUS=500;X-TITLE=Sudetenstraße 12:geo:10.6427796,47.8999277
END:VEVENT
BEGIN:VEVENT
DTSTART;TZID=Europe/Berlin:20260502T190000
DTEND;TZID=Europe/Berlin:20260503T040000
DTSTAMP:20260419T150939
CREATED:20251228T170007Z
LAST-MODIFIED:20251228T170457Z
UID:10001354-1777748400-1777780800@www.melodrom.de
SUMMARY:40 Jahre schwarzes Melodrom - Konzert + schwarze Szene Party @Melodrom
DESCRIPTION:40 Jahre schwarzes Melodrom \n02.05.26 \n19:00Uhr \n﻿﻿
URL:https://www.melodrom.de/event/40-jahre-schwarzes-melodrom-konzert-schwarze-szene-party-melodrom/
LOCATION:Melodrom\, Sudetenstraße 12\, Kaufbeuren\, 87600\, Deutschland
CATEGORIES:Paralax-Gothic
ATTACH;FMTTYPE=image/jpeg:https://www.melodrom.de/wp-content/uploads/2025/12/Paralax-BG-5.jpg
GEO:47.8999277;10.6427796
X-APPLE-STRUCTURED-LOCATION;VALUE=URI;X-ADDRESS=Melodrom Sudetenstraße 12 Kaufbeuren 87600 Deutschland;X-APPLE-RADIUS=500;X-TITLE=Sudetenstraße 12:geo:10.6427796,47.8999277
END:VEVENT
BEGIN:VEVENT
DTSTART;TZID=Europe/Berlin:20260508T223000
DTEND;TZID=Europe/Berlin:20260509T040000
DTSTAMP:20260419T150939
CREATED:20260317T121102Z
LAST-MODIFIED:20260317T121102Z
UID:10001377-1778279400-1778299200@www.melodrom.de
SUMMARY:Back to the 90's Party
DESCRIPTION:Back to the 90’s Party \n08.05.26 \n22:30Uhr \n﻿
URL:https://www.melodrom.de/event/back-to-the-90s-party-2/
LOCATION:Melodrom\, Sudetenstraße 12\, Kaufbeuren\, 87600\, Deutschland
CATEGORIES:Melodrom
ATTACH;FMTTYPE=image/jpeg:https://www.melodrom.de/wp-content/uploads/2026/03/Back-to-90s-1x1-1.jpg
GEO:47.8999277;10.6427796
X-APPLE-STRUCTURED-LOCATION;VALUE=URI;X-ADDRESS=Melodrom Sudetenstraße 12 Kaufbeuren 87600 Deutschland;X-APPLE-RADIUS=500;X-TITLE=Sudetenstraße 12:geo:10.6427796,47.8999277
END:VEVENT
END:VCALENDAR